BEGIN:VCALENDAR
VERSION:2.0
PRODID:-//Cape Cod Children&#039;s Place - ECPv6.15.17.1//NONSGML v1.0//EN
CALSCALE:GREGORIAN
METHOD:PUBLISH
X-ORIGINAL-URL:https://capecodchildrensplace.com
X-WR-CALDESC:Events for Cape Cod Children&#039;s Place
REFRESH-INTERVAL;VALUE=DURATION:PT1H
X-Robots-Tag:noindex
X-PUBLISHED-TTL:PT1H
BEGIN:VTIMEZONE
TZID:America/New_York
BEGIN:DAYLIGHT
TZOFFSETFROM:-0500
TZOFFSETTO:-0400
TZNAME:EDT
DTSTART:20240310T070000
END:DAYLIGHT
BEGIN:STANDARD
TZOFFSETFROM:-0400
TZOFFSETTO:-0500
TZNAME:EST
DTSTART:20241103T060000
END:STANDARD
BEGIN:DAYLIGHT
TZOFFSETFROM:-0500
TZOFFSETTO:-0400
TZNAME:EDT
DTSTART:20250309T070000
END:DAYLIGHT
BEGIN:STANDARD
TZOFFSETFROM:-0400
TZOFFSETTO:-0500
TZNAME:EST
DTSTART:20251102T060000
END:STANDARD
BEGIN:DAYLIGHT
TZOFFSETFROM:-0500
TZOFFSETTO:-0400
TZNAME:EDT
DTSTART:20260308T070000
END:DAYLIGHT
BEGIN:STANDARD
TZOFFSETFROM:-0400
TZOFFSETTO:-0500
TZNAME:EST
DTSTART:20261101T060000
END:STANDARD
END:VTIMEZONE
BEGIN:VEVENT
DTSTART;TZID=America/New_York:20250306T110000
DTEND;TZID=America/New_York:20250306T120000
DTSTAMP:20260420T082420
CREATED:20240827T185021Z
LAST-MODIFIED:20260317T012000Z
UID:10000638-1741258800-1741262400@capecodchildrensplace.com
SUMMARY:Lower Cape Supporting Momma Group
DESCRIPTION:A welcoming\, weekly space for moms with babies (0–12 months) to connect\, share\, and feel supported. Led by Becky Fischer\, MA\, CLC\, PMH-C — postpartum doula and lactation counselor — this group offers guidance for your infant feeding journey and encouragement through the ups and downs of early parenthood. \nNo cost to participate!
URL:https://capecodchildrensplace.com/event/lower-cape-supporting-momma-group/2025-03-06/
LOCATION:Cape Cod Children’s Place\, 10 Ballwic Rd\, Eastham\, MA\, 02642\, United States
CATEGORIES:Support Groups
ATTACH;FMTTYPE=image/png:https://capecodchildrensplace.com/wp-content/uploads/FY26-Q4-Lower-Cape-Supporting-Momma-Group.png
END:VEVENT
BEGIN:VEVENT
DTSTART;TZID=America/New_York:20250306T110000
DTEND;TZID=America/New_York:20250306T120000
DTSTAMP:20260420T082420
CREATED:20241213T192902Z
LAST-MODIFIED:20241213T192902Z
UID:10000298-1741258800-1741262400@capecodchildrensplace.com
SUMMARY:Creative Construction Club
DESCRIPTION:Join group leader Emily Faherty for a hands-on adventure in creative construction! Explore\, build\, and learn with a variety of materials. \n**this playgroup will meet either outside at the Outdoor Play Oasis (weather permitting) or inside in the library \nTo view the flyer in Spanish\, click here. \nTo view the flyer in Portuguese\, click here.
URL:https://capecodchildrensplace.com/event/creative-construction-club/2025-03-06/
LOCATION:Cape Cod Toy Library Outdoor Play Oasis at Hyannis Public Library\, 401 Main Street\, Hyannis\, MA\, 02601\, United States
CATEGORIES:Parent-child activities
ATTACH;FMTTYPE=image/png:https://capecodchildrensplace.com/wp-content/uploads/FY25-Q3-Creative-Construction-Club-Eng.png
END:VEVENT
BEGIN:VEVENT
DTSTART;TZID=America/New_York:20250306T180000
DTEND;TZID=America/New_York:20250306T193000
DTSTAMP:20260420T082420
CREATED:20241213T193716Z
LAST-MODIFIED:20241213T193716Z
UID:10000350-1741284000-1741289400@capecodchildrensplace.com
SUMMARY:Nurturing Fathers
DESCRIPTION:Join our 8 week parenting education series designed to teach parenting and nurturing skills to men. Each class provides proven\, effective skills for healthy family relationships and child development.
URL:https://capecodchildrensplace.com/event/nurturing-fathers/2025-03-06/
LOCATION:
CATEGORIES:Parenting Education Series
ATTACH;FMTTYPE=image/png:https://capecodchildrensplace.com/wp-content/uploads/FY25-Q3-Nurturing-Fathers-Upd.png
END:VEVENT
END:VCALENDAR