BEGIN:VCALENDAR
VERSION:2.0
PRODID:-//Cape Cod Children&#039;s Place - ECPv6.15.17.1//NONSGML v1.0//EN
CALSCALE:GREGORIAN
METHOD:PUBLISH
X-WR-CALNAME:Cape Cod Children&#039;s Place
X-ORIGINAL-URL:https://capecodchildrensplace.com
X-WR-CALDESC:Events for Cape Cod Children&#039;s Place
REFRESH-INTERVAL;VALUE=DURATION:PT1H
X-Robots-Tag:noindex
X-PUBLISHED-TTL:PT1H
BEGIN:VTIMEZONE
TZID:America/New_York
BEGIN:DAYLIGHT
TZOFFSETFROM:-0500
TZOFFSETTO:-0400
TZNAME:EDT
DTSTART:20240310T070000
END:DAYLIGHT
BEGIN:STANDARD
TZOFFSETFROM:-0400
TZOFFSETTO:-0500
TZNAME:EST
DTSTART:20241103T060000
END:STANDARD
BEGIN:DAYLIGHT
TZOFFSETFROM:-0500
TZOFFSETTO:-0400
TZNAME:EDT
DTSTART:20250309T070000
END:DAYLIGHT
BEGIN:STANDARD
TZOFFSETFROM:-0400
TZOFFSETTO:-0500
TZNAME:EST
DTSTART:20251102T060000
END:STANDARD
BEGIN:DAYLIGHT
TZOFFSETFROM:-0500
TZOFFSETTO:-0400
TZNAME:EDT
DTSTART:20260308T070000
END:DAYLIGHT
BEGIN:STANDARD
TZOFFSETFROM:-0400
TZOFFSETTO:-0500
TZNAME:EST
DTSTART:20261101T060000
END:STANDARD
END:VTIMEZONE
BEGIN:VEVENT
DTSTART;TZID=America/New_York:20250520T100000
DTEND;TZID=America/New_York:20250520T110000
DTSTAMP:20260424T091927
CREATED:20250321T162117Z
LAST-MODIFIED:20250321T162117Z
UID:10000920-1747735200-1747738800@capecodchildrensplace.com
SUMMARY:Story & Project #2
DESCRIPTION:The perfect first story time. Join group facilitator Jill Silva in this predictable group\, where children can anticipate what comes next and experience the joy of mastering new skills while taking comfort in the familiar songs and structures of the routine. Limited to 10 families. \nTo view the flyer in Spanish\, click here. \nTo view the flyer in Portuguese\, click here.
URL:https://capecodchildrensplace.com/event/story-project-2-2/2025-05-20/
LOCATION:Dennis Public Library\, 5 Hall Street\, Dennis Port\, MA\, 02639\, United States
CATEGORIES:Parent-child activities
ATTACH;FMTTYPE=image/png:https://capecodchildrensplace.com/wp-content/uploads/FY25-Q4-Story-and-Project-2-Eng.png
END:VEVENT
BEGIN:VEVENT
DTSTART;TZID=America/New_York:20250520T100000
DTEND;TZID=America/New_York:20250520T110000
DTSTAMP:20260424T091927
CREATED:20250321T163407Z
LAST-MODIFIED:20250321T163407Z
UID:10001051-1747735200-1747738800@capecodchildrensplace.com
SUMMARY:Nature Art
DESCRIPTION:Join Mary Wilson as we explore creatively through mixed media such as drawing\, painting\, and crafts using materials found in nature. \nTo view the flyer in Spanish\, click here. \nTo view the flyer in Portuguese\, click here.
URL:https://capecodchildrensplace.com/event/nature-art/2025-05-20/
LOCATION:Meetinghouse Farm\, 2135 Route 149 Meetinghouse Road\, West Barnstable\, MA\, 02668\, United States
CATEGORIES:Parent-child activities
ATTACH;FMTTYPE=image/png:https://capecodchildrensplace.com/wp-content/uploads/FY25-Q4-Nature-Art-Eng.png
END:VEVENT
BEGIN:VEVENT
DTSTART;TZID=America/New_York:20250520T100000
DTEND;TZID=America/New_York:20250520T110000
DTSTAMP:20260424T091927
CREATED:20250321T165544Z
LAST-MODIFIED:20250321T165544Z
UID:10000937-1747735200-1747738800@capecodchildrensplace.com
SUMMARY:Eldredge Park Playgroup
DESCRIPTION:Join Joey at Eldredge Park in Orleans for some fun on the playground! Enjoy a delightful playgroup series in a beautiful park setting.
URL:https://capecodchildrensplace.com/event/eldredge-park-playgroup/2025-05-20/
LOCATION:Eldredge Park\, 77 Eldredge Park Way\, Orleans\, MA\, 02653\, United States
CATEGORIES:Parent-child activities
ATTACH;FMTTYPE=image/png:https://capecodchildrensplace.com/wp-content/uploads/Eldredge-Park-8.5-x-11-in.png
END:VEVENT
BEGIN:VEVENT
DTSTART;TZID=America/New_York:20250520T103000
DTEND;TZID=America/New_York:20250520T113000
DTSTAMP:20260424T091927
CREATED:20250321T164526Z
LAST-MODIFIED:20250321T164526Z
UID:10000931-1747737000-1747740600@capecodchildrensplace.com
SUMMARY:Baby and Me Bonding
DESCRIPTION:Let’s nurture our little ones and ourselves together! Learn soothing infant massage techniques\, sing nursery rhymes\, practice calming breath work\, enjoy gentle moments\, and explore beneficial postures for both baby and caregiver. \nTo view the flyer in Spanish\, click here. \nTo view the flyer in Portuguese\, click here.
URL:https://capecodchildrensplace.com/event/baby-and-me-bonding/2025-05-20/
LOCATION:Centerville Library\, 585 Main St.\, Centerville\, MA\, 02632\, United States
CATEGORIES:Parent-child activities
ATTACH;FMTTYPE=image/png:https://capecodchildrensplace.com/wp-content/uploads/FY25-Q4-Baby-and-Me-Bonding-Eng.png
END:VEVENT
BEGIN:VEVENT
DTSTART;TZID=America/New_York:20250520T120000
DTEND;TZID=America/New_York:20250520T130000
DTSTAMP:20260424T091927
CREATED:20250321T172126Z
LAST-MODIFIED:20250321T172126Z
UID:10001031-1747742400-1747746000@capecodchildrensplace.com
SUMMARY:The Road Less Traveled
DESCRIPTION:Join us once a month\, virtually\, to connect with other parents of children with disability or complex medical needs. We discuss the joys and challenges\, timely topics\, and share local resources and hard-earned wisdom. \nCome to feel seen & validated\, uplifted & emboldened!
URL:https://capecodchildrensplace.com/event/the-road-less-traveled-2/2025-05-20/
LOCATION:
CATEGORIES:Support Groups
ATTACH;FMTTYPE=image/png:https://capecodchildrensplace.com/wp-content/uploads/FY25-Q4-Road-Less-Traveled.png
END:VEVENT
BEGIN:VEVENT
DTSTART;TZID=America/New_York:20250520T180000
DTEND;TZID=America/New_York:20250520T190000
DTSTAMP:20260424T091927
CREATED:20240827T183256Z
LAST-MODIFIED:20241206T172808Z
UID:10000387-1747764000-1747767600@capecodchildrensplace.com
SUMMARY:Dads in Recovery
DESCRIPTION:Explore strengths and challenges with parenting while building a support network. Join our peer support group and connect with other Dads on a recovery journey. \nTo register\, contact Christina at 774-722-3305 or email crussell@capecodchildrensplace.com
URL:https://capecodchildrensplace.com/event/dads-in-recovery-2/2025-05-20/
LOCATION:MA
CATEGORIES:Support Groups
ATTACH;FMTTYPE=image/jpeg:https://capecodchildrensplace.com/wp-content/uploads/DADS-IN-RECOVERY-Flyer-scaled.jpg
END:VEVENT
BEGIN:VEVENT
DTSTART;TZID=America/New_York:20250520T180000
DTEND;TZID=America/New_York:20250520T193000
DTSTAMP:20260424T091927
CREATED:20250321T173931Z
LAST-MODIFIED:20250321T173931Z
UID:10001002-1747764000-1747769400@capecodchildrensplace.com
SUMMARY:Raising Healthy Families #2
DESCRIPTION:Join Cindy Horgan\, Director of Family Support Services at Cape Cod Children’s Place\, in an evidence-informed 6 week Parenting Education Series designed to strengthen families. \n\nSessions include resource materials that enhance your child’s self-esteem and development.\nImprove your confidence to be the best parent possible for your child.
URL:https://capecodchildrensplace.com/event/raising-healthy-families-2/2025-05-20/
LOCATION:
CATEGORIES:Parenting Education Series
ATTACH;FMTTYPE=image/png:https://capecodchildrensplace.com/wp-content/uploads/FY25-Q4-RHF-2.png
END:VEVENT
END:VCALENDAR