BEGIN:VCALENDAR
VERSION:2.0
PRODID:-//Cape Cod Children&#039;s Place - ECPv6.15.17.1//NONSGML v1.0//EN
CALSCALE:GREGORIAN
METHOD:PUBLISH
X-ORIGINAL-URL:https://capecodchildrensplace.com
X-WR-CALDESC:Events for Cape Cod Children&#039;s Place
REFRESH-INTERVAL;VALUE=DURATION:PT1H
X-Robots-Tag:noindex
X-PUBLISHED-TTL:PT1H
BEGIN:VTIMEZONE
TZID:America/New_York
BEGIN:DAYLIGHT
TZOFFSETFROM:-0500
TZOFFSETTO:-0400
TZNAME:EDT
DTSTART:20240310T070000
END:DAYLIGHT
BEGIN:STANDARD
TZOFFSETFROM:-0400
TZOFFSETTO:-0500
TZNAME:EST
DTSTART:20241103T060000
END:STANDARD
BEGIN:DAYLIGHT
TZOFFSETFROM:-0500
TZOFFSETTO:-0400
TZNAME:EDT
DTSTART:20250309T070000
END:DAYLIGHT
BEGIN:STANDARD
TZOFFSETFROM:-0400
TZOFFSETTO:-0500
TZNAME:EST
DTSTART:20251102T060000
END:STANDARD
BEGIN:DAYLIGHT
TZOFFSETFROM:-0500
TZOFFSETTO:-0400
TZNAME:EDT
DTSTART:20260308T070000
END:DAYLIGHT
BEGIN:STANDARD
TZOFFSETFROM:-0400
TZOFFSETTO:-0500
TZNAME:EST
DTSTART:20261101T060000
END:STANDARD
END:VTIMEZONE
BEGIN:VEVENT
DTSTART;TZID=America/New_York:20250526T103000
DTEND;TZID=America/New_York:20250526T233000
DTSTAMP:20260422T070839
CREATED:20250321T143718Z
LAST-MODIFIED:20250403T163958Z
UID:10000895-1748255400-1748302200@capecodchildrensplace.com
SUMMARY:Baby's First Year
DESCRIPTION:Join Family Support Specialist\, Ali Burns\, and connect with other new parents and build your community of support. \nShare experiences\, ask questions\, and get familiar with the resources that support caregivers and their babies. Topics for discussion will include developmental milestones\, the importance of the parent-child relationship and the benefits of routines. \nTo see the flyer in Spanish\, click here. \nTo see the flyer in Portuguese\, click here.
URL:https://capecodchildrensplace.com/event/babys-first-year-3/2025-05-26/
LOCATION:Snow Library\, 67 Main Street\, Orleans\, MA\, 02653\, United States
CATEGORIES:Parent-child activities
ATTACH;FMTTYPE=image/png:https://capecodchildrensplace.com/wp-content/uploads/FY25Q4-Babys-First-Year-Eng.png
END:VEVENT
END:VCALENDAR