BEGIN:VCALENDAR
VERSION:2.0
PRODID:-//Cape Cod Children&#039;s Place - ECPv6.15.17.1//NONSGML v1.0//EN
CALSCALE:GREGORIAN
METHOD:PUBLISH
X-WR-CALNAME:Cape Cod Children&#039;s Place
X-ORIGINAL-URL:https://capecodchildrensplace.com
X-WR-CALDESC:Events for Cape Cod Children&#039;s Place
REFRESH-INTERVAL;VALUE=DURATION:PT1H
X-Robots-Tag:noindex
X-PUBLISHED-TTL:PT1H
BEGIN:VTIMEZONE
TZID:America/New_York
BEGIN:DAYLIGHT
TZOFFSETFROM:-0500
TZOFFSETTO:-0400
TZNAME:EDT
DTSTART:20240310T070000
END:DAYLIGHT
BEGIN:STANDARD
TZOFFSETFROM:-0400
TZOFFSETTO:-0500
TZNAME:EST
DTSTART:20241103T060000
END:STANDARD
BEGIN:DAYLIGHT
TZOFFSETFROM:-0500
TZOFFSETTO:-0400
TZNAME:EDT
DTSTART:20250309T070000
END:DAYLIGHT
BEGIN:STANDARD
TZOFFSETFROM:-0400
TZOFFSETTO:-0500
TZNAME:EST
DTSTART:20251102T060000
END:STANDARD
BEGIN:DAYLIGHT
TZOFFSETFROM:-0500
TZOFFSETTO:-0400
TZNAME:EDT
DTSTART:20260308T070000
END:DAYLIGHT
BEGIN:STANDARD
TZOFFSETFROM:-0400
TZOFFSETTO:-0500
TZNAME:EST
DTSTART:20261101T060000
END:STANDARD
END:VTIMEZONE
BEGIN:VEVENT
DTSTART;TZID=America/New_York:20250529T090000
DTEND;TZID=America/New_York:20250529T100000
DTSTAMP:20260420T173840
CREATED:20250321T191430Z
LAST-MODIFIED:20250321T191430Z
UID:10000974-1748509200-1748512800@capecodchildrensplace.com
SUMMARY:Cuties in Carriers
DESCRIPTION:Join Naturalist Andrea Higgins for a morning of outdoor exploration with your infant. Put your baby in your carrier/backpack and off we go. We will venture to a variety of local conservation preserves together. The trails may not be stroller friendly. \nTo view the flyer in Spanish\, click here. \nTo view the flyer in Portuguese\, click here.
URL:https://capecodchildrensplace.com/event/cuties-in-carriers-2/2025-05-29/
LOCATION:Harwich Conservation Trust\, Harwich\, MA\, United States
CATEGORIES:Parent-child activities
ATTACH;FMTTYPE=image/png:https://capecodchildrensplace.com/wp-content/uploads/FY25-Q4-Cuties-in-Carriers-Eng.png
END:VEVENT
BEGIN:VEVENT
DTSTART;TZID=America/New_York:20250529T100000
DTEND;TZID=America/New_York:20250529T110000
DTSTAMP:20260420T173840
CREATED:20250321T193241Z
LAST-MODIFIED:20250321T193241Z
UID:10000988-1748512800-1748516400@capecodchildrensplace.com
SUMMARY:Get Ready for Summer
DESCRIPTION:Get ready for a summer of fun at 3 awesome Mid Cape parks! \n\nHave a Ball at Access Park with Ball and Ramp play.\nMake a Splash at the Splash Pad – perfect for water play!\nGo Camping at Drummer Boy Park – enjoy fishing\, camping with flashlights\, making fish prints\, and pretend cooking over a campfire.\n\nTo view the flyer in Spanish\, click here. \nTo view the flyer in Portuguese\, click here.
URL:https://capecodchildrensplace.com/event/get-ready-for-summer/2025-05-29/
LOCATION:Various locations in Dennis\, Yarmouth & Brewster
CATEGORIES:Parent-child activities
ATTACH;FMTTYPE=image/png:https://capecodchildrensplace.com/wp-content/uploads/FY25-Q4-Get-Ready-for-Summer-Eng.png
END:VEVENT
BEGIN:VEVENT
DTSTART;TZID=America/New_York:20250529T100000
DTEND;TZID=America/New_York:20250529T110000
DTSTAMP:20260420T173840
CREATED:20250321T195533Z
LAST-MODIFIED:20250321T195533Z
UID:10000969-1748512800-1748516400@capecodchildrensplace.com
SUMMARY:Busy Bees
DESCRIPTION:Join Julie for lots of fun\, wiggling\, laughing\, exploring\, and learning with new friends. *this playgroup will meet either outdoors (weather permitting) or indoors at Whelden Library. \nTo see the flyer in Spanish\, click here. \nTo see the flyer in Portuguese\, click here.
URL:https://capecodchildrensplace.com/event/busy-bees-2/2025-05-29/
LOCATION:Whelden Memorial Library\, 2401 Meetinghouse Way\, West Barnstable\, MA\, 02668\, United States
CATEGORIES:Parent-child activities
ATTACH;FMTTYPE=image/png:https://capecodchildrensplace.com/wp-content/uploads/FY25-Q4-Busy-Bees-Eng.png
END:VEVENT
BEGIN:VEVENT
DTSTART;TZID=America/New_York:20250529T103000
DTEND;TZID=America/New_York:20250529T113000
DTSTAMP:20260420T173840
CREATED:20250321T192052Z
LAST-MODIFIED:20250321T192052Z
UID:10000986-1748514600-1748518200@capecodchildrensplace.com
SUMMARY:Pre-K Explorers
DESCRIPTION:Join Naturalist Andrea Higgins as we explore the beauty of nature. We will venture to a variety of local conservation preserves together and listen to stories\, saunter along the trails\, create art from nature and even collect some natural treasures. \nTo view the flyer in Spanish\, click here. \nTo view the flyer in Portuguese\, click here.
URL:https://capecodchildrensplace.com/event/pre-k-explorers-2/2025-05-29/
LOCATION:Harwich Conservation Trust\, Harwich\, MA\, United States
CATEGORIES:Parent-child activities
ATTACH;FMTTYPE=image/png:https://capecodchildrensplace.com/wp-content/uploads/FY25-Q4-PreK-Explorers-Eng.png
END:VEVENT
BEGIN:VEVENT
DTSTART;TZID=America/New_York:20250529T110000
DTEND;TZID=America/New_York:20250529T120000
DTSTAMP:20260420T173840
CREATED:20240827T185021Z
LAST-MODIFIED:20260317T012000Z
UID:10000650-1748516400-1748520000@capecodchildrensplace.com
SUMMARY:Lower Cape Supporting Momma Group
DESCRIPTION:A welcoming\, weekly space for moms with babies (0–12 months) to connect\, share\, and feel supported. Led by Becky Fischer\, MA\, CLC\, PMH-C — postpartum doula and lactation counselor — this group offers guidance for your infant feeding journey and encouragement through the ups and downs of early parenthood. \nNo cost to participate!
URL:https://capecodchildrensplace.com/event/lower-cape-supporting-momma-group/2025-05-29/
LOCATION:Cape Cod Children’s Place\, 10 Ballwic Rd\, Eastham\, MA\, 02642\, United States
CATEGORIES:Support Groups
ATTACH;FMTTYPE=image/png:https://capecodchildrensplace.com/wp-content/uploads/FY26-Q4-Lower-Cape-Supporting-Momma-Group.png
END:VEVENT
BEGIN:VEVENT
DTSTART;TZID=America/New_York:20250529T110000
DTEND;TZID=America/New_York:20250529T120000
DTSTAMP:20260420T173840
CREATED:20250321T194855Z
LAST-MODIFIED:20250321T194855Z
UID:10000995-1748516400-1748520000@capecodchildrensplace.com
SUMMARY:Mud Kitchen
DESCRIPTION:Join Emily for sensory play and exploration at the outdoor kitchen play space. Explore textures\, smells\, and visual invitations to play. Music and fun messes included. A change of clothes is recommended. \nTo view the flyer in Spanish\, click here. \nTo view the flyer in Portuguese\, click here.
URL:https://capecodchildrensplace.com/event/mud-kitchen/2025-05-29/
LOCATION:Cape Cod Toy Library Outdoor Play Oasis at Hyannis Public Library\, 401 Main Street\, Hyannis\, MA\, 02601\, United States
CATEGORIES:Parent-child activities
ATTACH;FMTTYPE=image/png:https://capecodchildrensplace.com/wp-content/uploads/FY25-Q4-Mud-Kitchen-Eng.png
END:VEVENT
BEGIN:VEVENT
DTSTART;TZID=America/New_York:20250529T133000
DTEND;TZID=America/New_York:20250529T143000
DTSTAMP:20260420T173840
CREATED:20250321T194054Z
LAST-MODIFIED:20250321T194054Z
UID:10001001-1748525400-1748529000@capecodchildrensplace.com
SUMMARY:Afternoon Oceanographers
DESCRIPTION:Share the afternoon\, happy as a clam\, exploring local Dennis and Yarmouth beaches learning about marine life with Naturalist and Kripalu Mindful Outdoor Guide Andrea Higgins. \nEach session will meet at a different location. \nTo view the flyer in Spanish\, click here. \nTo view the flyer in Portuguese\, click here.
URL:https://capecodchildrensplace.com/event/afternoon-oceanographers-2/2025-05-29/
LOCATION:Various beaches in Dennis and Yarmouth
CATEGORIES:Parent-child activities
ATTACH;FMTTYPE=image/png:https://capecodchildrensplace.com/wp-content/uploads/FY25-Q4-Afternoon-Oceanographers-Eng.png
END:VEVENT
END:VCALENDAR