BEGIN:VCALENDAR
VERSION:2.0
PRODID:-//Cape Cod Children&#039;s Place - ECPv6.15.17.1//NONSGML v1.0//EN
CALSCALE:GREGORIAN
METHOD:PUBLISH
X-WR-CALNAME:Cape Cod Children&#039;s Place
X-ORIGINAL-URL:https://capecodchildrensplace.com
X-WR-CALDESC:Events for Cape Cod Children&#039;s Place
REFRESH-INTERVAL;VALUE=DURATION:PT1H
X-Robots-Tag:noindex
X-PUBLISHED-TTL:PT1H
BEGIN:VTIMEZONE
TZID:America/New_York
BEGIN:DAYLIGHT
TZOFFSETFROM:-0500
TZOFFSETTO:-0400
TZNAME:EDT
DTSTART:20230312T070000
END:DAYLIGHT
BEGIN:STANDARD
TZOFFSETFROM:-0400
TZOFFSETTO:-0500
TZNAME:EST
DTSTART:20231105T060000
END:STANDARD
BEGIN:DAYLIGHT
TZOFFSETFROM:-0500
TZOFFSETTO:-0400
TZNAME:EDT
DTSTART:20240310T070000
END:DAYLIGHT
BEGIN:STANDARD
TZOFFSETFROM:-0400
TZOFFSETTO:-0500
TZNAME:EST
DTSTART:20241103T060000
END:STANDARD
BEGIN:DAYLIGHT
TZOFFSETFROM:-0500
TZOFFSETTO:-0400
TZNAME:EDT
DTSTART:20250309T070000
END:DAYLIGHT
BEGIN:STANDARD
TZOFFSETFROM:-0400
TZOFFSETTO:-0500
TZNAME:EST
DTSTART:20251102T060000
END:STANDARD
END:VTIMEZONE
BEGIN:VEVENT
DTSTART;TZID=America/New_York:20241021T100000
DTEND;TZID=America/New_York:20241021T110000
DTSTAMP:20260420T100049
CREATED:20240821T140042Z
LAST-MODIFIED:20240905T130850Z
UID:10000095-1729504800-1729508400@capecodchildrensplace.com
SUMMARY:Tinkering
DESCRIPTION:“The cure for boredom is curiosity.” — Anonymous \nEncouraging children to tinker gives them the skills to be creative problem solvers their whole lives. In this group\, children will have the opportunity to think creatively\, use tools with intent and collaborate with each other. \nWhy Tinker?–To develop fine motor skills–use tools with intent–Problem solve–brainstorm\, test solutions\,–Learn from mistakes–to collaborate–to make predictions–to take risks–to gather data–to think creatively–to observe–to compare–to apply prior knowledge to newsituations–to share ideas\, discoveries\, questions andproblems–to persevere! \nTo view the flyer in Spanish\, click here. \nTo view the flyer in Portuguese\, click here.
URL:https://capecodchildrensplace.com/event/tinkering/2024-10-21/
LOCATION:Cultural Center of Cape Cod\, 307 Old Main Street\, South Yarmouth\, MA\, 02664\, United States
CATEGORIES:Parent-child activities
ATTACH;FMTTYPE=image/png:https://capecodchildrensplace.com/wp-content/uploads/FY25-Q2-Tinkering-Eng-UPD.png
END:VEVENT
BEGIN:VEVENT
DTSTART;TZID=America/New_York:20241021T110000
DTEND;TZID=America/New_York:20241021T120000
DTSTAMP:20260420T100049
CREATED:20240820T161024Z
LAST-MODIFIED:20240830T150500Z
UID:10000038-1729508400-1729512000@capecodchildrensplace.com
SUMMARY:Baby's First Year
DESCRIPTION:Join Family Support Specialist\, Ali Burns\, and connect with other new parents and build your community of support. Share experiences\, ask questions\, and get familiar with the resources that support caregivers and their babies. Topics for discussion will include developmental milestones\, the importance of the parent-child relationship and the benefits of routines. \nTo view the flyer in Spanish\, click here. \nTo view the flyer in Portuguese\, click here.
URL:https://capecodchildrensplace.com/event/babys-first-year/2024-10-21/
LOCATION:Snow Library\, 67 Main Street\, Orleans\, MA\, 02653\, United States
CATEGORIES:Parent-child activities
ATTACH;FMTTYPE=image/png:https://capecodchildrensplace.com/wp-content/uploads/FY25-Q2-Babys-First-Year-Eng.png
END:VEVENT
BEGIN:VEVENT
DTSTART;TZID=America/New_York:20241021T140000
DTEND;TZID=America/New_York:20241021T150000
DTSTAMP:20260420T100049
CREATED:20240821T143452Z
LAST-MODIFIED:20241002T154436Z
UID:10000104-1729519200-1729522800@capecodchildrensplace.com
SUMMARY:Science Explorers
DESCRIPTION:Come explore a fascinating and fun science topic each week. \nMake new friends and enjoy activities focused on discovering the world around us. \nTo view the flyer in Spanish\, click here. \nTo view the flyer in Portuguese\, click here.
URL:https://capecodchildrensplace.com/event/science-explorers/2024-10-21/
LOCATION:Cotuit Federated Church\, 40 School Street\, Cotuit\, MA\, 02635\, United States
CATEGORIES:Parent-child activities
ATTACH;FMTTYPE=image/png:https://capecodchildrensplace.com/wp-content/uploads/FY25-Q2-Science-Explorers-Eng-upd.png
END:VEVENT
END:VCALENDAR