BEGIN:VCALENDAR
VERSION:2.0
PRODID:-//Cape Cod Children&#039;s Place - ECPv6.15.17.1//NONSGML v1.0//EN
CALSCALE:GREGORIAN
METHOD:PUBLISH
X-ORIGINAL-URL:https://capecodchildrensplace.com
X-WR-CALDESC:Events for Cape Cod Children&#039;s Place
REFRESH-INTERVAL;VALUE=DURATION:PT1H
X-Robots-Tag:noindex
X-PUBLISHED-TTL:PT1H
BEGIN:VTIMEZONE
TZID:America/New_York
BEGIN:DAYLIGHT
TZOFFSETFROM:-0500
TZOFFSETTO:-0400
TZNAME:EDT
DTSTART:20240310T070000
END:DAYLIGHT
BEGIN:STANDARD
TZOFFSETFROM:-0400
TZOFFSETTO:-0500
TZNAME:EST
DTSTART:20241103T060000
END:STANDARD
BEGIN:DAYLIGHT
TZOFFSETFROM:-0500
TZOFFSETTO:-0400
TZNAME:EDT
DTSTART:20250309T070000
END:DAYLIGHT
BEGIN:STANDARD
TZOFFSETFROM:-0400
TZOFFSETTO:-0500
TZNAME:EST
DTSTART:20251102T060000
END:STANDARD
BEGIN:DAYLIGHT
TZOFFSETFROM:-0500
TZOFFSETTO:-0400
TZNAME:EDT
DTSTART:20260308T070000
END:DAYLIGHT
BEGIN:STANDARD
TZOFFSETFROM:-0400
TZOFFSETTO:-0500
TZNAME:EST
DTSTART:20261101T060000
END:STANDARD
END:VTIMEZONE
BEGIN:VEVENT
DTSTART;TZID=America/New_York:20250428T103000
DTEND;TZID=America/New_York:20250428T113000
DTSTAMP:20260425T072131
CREATED:20250321T155310Z
LAST-MODIFIED:20250321T155310Z
UID:10000908-1745836200-1745839800@capecodchildrensplace.com
SUMMARY:Music & Movement with Siobhan
DESCRIPTION:Let’s Make Music Together! Join Miss Siobhan in a Fun and Interactive series of making music and dancing with family and new friends! \nTo view the flyer in Spanish\, click here. \nTo view the flyer in Portuguese\, click here.
URL:https://capecodchildrensplace.com/event/music-movement-with-siobhan/2025-04-28/
LOCATION:Eastham Library\, 190 Samoset Road\, Eastham\, MA\, 02642\, United States
CATEGORIES:Parent-child activities
ATTACH;FMTTYPE=image/png:https://capecodchildrensplace.com/wp-content/uploads/FY25-Q4-Music-Movement-with-Siobhan-Eng.png
END:VEVENT
BEGIN:VEVENT
DTSTART;TZID=America/New_York:20250428T103000
DTEND;TZID=America/New_York:20250428T233000
DTSTAMP:20260425T072131
CREATED:20250321T143718Z
LAST-MODIFIED:20250403T163958Z
UID:10000891-1745836200-1745883000@capecodchildrensplace.com
SUMMARY:Baby's First Year
DESCRIPTION:Join Family Support Specialist\, Ali Burns\, and connect with other new parents and build your community of support. \nShare experiences\, ask questions\, and get familiar with the resources that support caregivers and their babies. Topics for discussion will include developmental milestones\, the importance of the parent-child relationship and the benefits of routines. \nTo see the flyer in Spanish\, click here. \nTo see the flyer in Portuguese\, click here.
URL:https://capecodchildrensplace.com/event/babys-first-year-3/2025-04-28/
LOCATION:Snow Library\, 67 Main Street\, Orleans\, MA\, 02653\, United States
CATEGORIES:Parent-child activities
ATTACH;FMTTYPE=image/png:https://capecodchildrensplace.com/wp-content/uploads/FY25Q4-Babys-First-Year-Eng.png
END:VEVENT
BEGIN:VEVENT
DTSTART;TZID=America/New_York:20250429T100000
DTEND;TZID=America/New_York:20250429T110000
DTSTAMP:20260425T072131
CREATED:20250321T160650Z
LAST-MODIFIED:20250321T160650Z
UID:10000914-1745920800-1745924400@capecodchildrensplace.com
SUMMARY:Story & Project #1
DESCRIPTION:The perfect first story time. Join group facilitator Jill Silva in this predictable group\, where children can anticipate what comes next and experience the joy of mastering new skills while taking comfort in the familiar songs and structures of the routine. Limited to 10 families. \nTo view the flyer in Spanish\, click here. \nTo view the flyer in Portuguese\, click here.
URL:https://capecodchildrensplace.com/event/story-project-1-2/2025-04-29/
LOCATION:Dennis Public Library\, 5 Hall Street\, Dennis Port\, MA\, 02639\, United States
CATEGORIES:Parent-child activities
ATTACH;FMTTYPE=image/png:https://capecodchildrensplace.com/wp-content/uploads/FY25-Q4-Story-and-Project-1-Eng.png
END:VEVENT
BEGIN:VEVENT
DTSTART;TZID=America/New_York:20250429T100000
DTEND;TZID=America/New_York:20250429T110000
DTSTAMP:20260425T072131
CREATED:20250321T171226Z
LAST-MODIFIED:20250321T171226Z
UID:10000934-1745920800-1745924400@capecodchildrensplace.com
SUMMARY:Puppet Playgroup
DESCRIPTION:Join Mary Wilson and her puppets for 4 weeks of activities you’re sure to enjoy! Stories\, songs\, and activities with puppets designed to encourage social-emotional development\, to stimulate language development and to promote creativity and learning. \nTo view the flyer in Spanish\, click here. \nTo view the flyer in Portuguese\, click here.
URL:https://capecodchildrensplace.com/event/puppet-playgroup/2025-04-29/
LOCATION:Eldredge Library\, 564 Main St.\, Chatham\, MA\, 02633\, United States
CATEGORIES:Parent-child activities
ATTACH;FMTTYPE=image/png:https://capecodchildrensplace.com/wp-content/uploads/FY25-Q4-Puppet-Playgroup-Chatham-Eng.png
END:VEVENT
BEGIN:VEVENT
DTSTART;TZID=America/New_York:20250429T103000
DTEND;TZID=America/New_York:20250429T113000
DTSTAMP:20260425T072131
CREATED:20250321T164526Z
LAST-MODIFIED:20250321T164526Z
UID:10000928-1745922600-1745926200@capecodchildrensplace.com
SUMMARY:Baby and Me Bonding
DESCRIPTION:Let’s nurture our little ones and ourselves together! Learn soothing infant massage techniques\, sing nursery rhymes\, practice calming breath work\, enjoy gentle moments\, and explore beneficial postures for both baby and caregiver. \nTo view the flyer in Spanish\, click here. \nTo view the flyer in Portuguese\, click here.
URL:https://capecodchildrensplace.com/event/baby-and-me-bonding/2025-04-29/
LOCATION:Centerville Library\, 585 Main St.\, Centerville\, MA\, 02632\, United States
CATEGORIES:Parent-child activities
ATTACH;FMTTYPE=image/png:https://capecodchildrensplace.com/wp-content/uploads/FY25-Q4-Baby-and-Me-Bonding-Eng.png
END:VEVENT
BEGIN:VEVENT
DTSTART;TZID=America/New_York:20250430T100000
DTEND;TZID=America/New_York:20250430T230000
DTSTAMP:20260425T072131
CREATED:20250321T175830Z
LAST-MODIFIED:20250321T175830Z
UID:10000949-1746007200-1746054000@capecodchildrensplace.com
SUMMARY:Kids Movement Jamboree
DESCRIPTION:Join Britt for some creative\, uplifting and inspiring movement activities that will engage you and your child. \nBritt will have you singing\, dancing and playing together with new friends. \nTo view the flyer in Spanish\, click here. \nTo view the flyer in Portuguese\, click here.
URL:https://capecodchildrensplace.com/event/kids-movement-jamboree-3/2025-04-30/
LOCATION:Johnny Kelley Park\, 180 Old Bass River Rd\, South Dennis\, MA\, 02660\, United States
CATEGORIES:Parent-child activities
ATTACH;FMTTYPE=image/png:https://capecodchildrensplace.com/wp-content/uploads/FY25-Q4-Kids-Movement-Jamboree-Eng.png
END:VEVENT
BEGIN:VEVENT
DTSTART;TZID=America/New_York:20250430T103000
DTEND;TZID=America/New_York:20250430T113000
DTSTAMP:20260425T072131
CREATED:20250321T174705Z
LAST-MODIFIED:20250403T163442Z
UID:10000941-1746009000-1746012600@capecodchildrensplace.com
SUMMARY:Ready-Set-Go!
DESCRIPTION:Join Developmental Specialist\, Kathe Medwin for a positive group experience. Come and learn play-based routines that support development & strengthen the parent-child relationship. \nTo view the flyer in Spanish\, click here. \nTo view the flyer in Portuguese\, click here.
URL:https://capecodchildrensplace.com/event/ready-set-go-3/2025-04-30/
LOCATION:South Yarmouth Library\, 312 Old Main Street\, South Yarmouth\, MA\, 02664\, United States
CATEGORIES:Parent-child activities
ATTACH;FMTTYPE=image/png:https://capecodchildrensplace.com/wp-content/uploads/FY25-Q4-Ready-Set-Go-Eng.png
END:VEVENT
BEGIN:VEVENT
DTSTART;TZID=America/New_York:20250430T140000
DTEND;TZID=America/New_York:20250430T150000
DTSTAMP:20260425T072131
CREATED:20250321T183225Z
LAST-MODIFIED:20250403T163735Z
UID:10000960-1746021600-1746025200@capecodchildrensplace.com
SUMMARY:Little Naturalist
DESCRIPTION:Join Miss Kelly and a naturalist guide for outdoor learning\, exploration and inspiration in Nature’s Classroom. Families will discover and explore a different nature focused topic each week. \nTo view the flyer in Spanish\, click here. \nTo view the flyer in Portuguese\, click here.
URL:https://capecodchildrensplace.com/event/little-naturalist-2/2025-04-30/
LOCATION:MA
CATEGORIES:Parent-child activities
ATTACH;FMTTYPE=image/png:https://capecodchildrensplace.com/wp-content/uploads/FY25-Q-Little-Naturalist-Eng.png
END:VEVENT
BEGIN:VEVENT
DTSTART;TZID=America/New_York:20250430T160000
DTEND;TZID=America/New_York:20250430T170000
DTSTAMP:20260425T072131
CREATED:20250321T184044Z
LAST-MODIFIED:20250321T184044Z
UID:10001048-1746028800-1746032400@capecodchildrensplace.com
SUMMARY:Explore the National Seashore
DESCRIPTION:Join us for fun and educational adventures! \n\n\n\n📅 4/16: Buttonbush Trail Hike \n\n\nEnjoy a hike along the scenic Buttonbush Trail.\nParticipate in a scavenger hunt.\nExplore a nature play area filled with exciting discoveries.\n\n\n\n\n📅 4/30: Horseshoe Crab Program \n\n\nListen to an engaging story about horseshoe crabs.\nGet creative with a themed craft activity.\nEmbark on a hike to spot horseshoe crabs in their natural habitat.\n\nTo view the flyer in Spanish\, click here. \nTo view the flyer in Portuguese\, click here.
URL:https://capecodchildrensplace.com/event/explore-the-national-seashore/2025-04-30/
LOCATION:Salt Pond Visitor Center\, 50 Nauset Rd\, Eastham\, MA\, 02642\, United States
CATEGORIES:Parent-child activities
ATTACH;FMTTYPE=image/png:https://capecodchildrensplace.com/wp-content/uploads/FY25-Q4-Explore-the-National-Seashore-Eng.png
END:VEVENT
BEGIN:VEVENT
DTSTART;TZID=America/New_York:20250501T090000
DTEND;TZID=America/New_York:20250501T100000
DTSTAMP:20260425T072131
CREATED:20250321T191430Z
LAST-MODIFIED:20250321T191430Z
UID:10000970-1746090000-1746093600@capecodchildrensplace.com
SUMMARY:Cuties in Carriers
DESCRIPTION:Join Naturalist Andrea Higgins for a morning of outdoor exploration with your infant. Put your baby in your carrier/backpack and off we go. We will venture to a variety of local conservation preserves together. The trails may not be stroller friendly. \nTo view the flyer in Spanish\, click here. \nTo view the flyer in Portuguese\, click here.
URL:https://capecodchildrensplace.com/event/cuties-in-carriers-2/2025-05-01/
LOCATION:Harwich Conservation Trust\, Harwich\, MA\, United States
CATEGORIES:Parent-child activities
ATTACH;FMTTYPE=image/png:https://capecodchildrensplace.com/wp-content/uploads/FY25-Q4-Cuties-in-Carriers-Eng.png
END:VEVENT
BEGIN:VEVENT
DTSTART;TZID=America/New_York:20250501T100000
DTEND;TZID=America/New_York:20250501T110000
DTSTAMP:20260425T072131
CREATED:20250321T195533Z
LAST-MODIFIED:20250321T195533Z
UID:10000965-1746093600-1746097200@capecodchildrensplace.com
SUMMARY:Busy Bees
DESCRIPTION:Join Julie for lots of fun\, wiggling\, laughing\, exploring\, and learning with new friends. *this playgroup will meet either outdoors (weather permitting) or indoors at Whelden Library. \nTo see the flyer in Spanish\, click here. \nTo see the flyer in Portuguese\, click here.
URL:https://capecodchildrensplace.com/event/busy-bees-2/2025-05-01/
LOCATION:Whelden Memorial Library\, 2401 Meetinghouse Way\, West Barnstable\, MA\, 02668\, United States
CATEGORIES:Parent-child activities
ATTACH;FMTTYPE=image/png:https://capecodchildrensplace.com/wp-content/uploads/FY25-Q4-Busy-Bees-Eng.png
END:VEVENT
BEGIN:VEVENT
DTSTART;TZID=America/New_York:20250501T103000
DTEND;TZID=America/New_York:20250501T113000
DTSTAMP:20260425T072131
CREATED:20250321T192052Z
LAST-MODIFIED:20250321T192052Z
UID:10000982-1746095400-1746099000@capecodchildrensplace.com
SUMMARY:Pre-K Explorers
DESCRIPTION:Join Naturalist Andrea Higgins as we explore the beauty of nature. We will venture to a variety of local conservation preserves together and listen to stories\, saunter along the trails\, create art from nature and even collect some natural treasures. \nTo view the flyer in Spanish\, click here. \nTo view the flyer in Portuguese\, click here.
URL:https://capecodchildrensplace.com/event/pre-k-explorers-2/2025-05-01/
LOCATION:Harwich Conservation Trust\, Harwich\, MA\, United States
CATEGORIES:Parent-child activities
ATTACH;FMTTYPE=image/png:https://capecodchildrensplace.com/wp-content/uploads/FY25-Q4-PreK-Explorers-Eng.png
END:VEVENT
BEGIN:VEVENT
DTSTART;TZID=America/New_York:20250501T110000
DTEND;TZID=America/New_York:20250501T120000
DTSTAMP:20260425T072131
CREATED:20250321T194855Z
LAST-MODIFIED:20250321T194855Z
UID:10000991-1746097200-1746100800@capecodchildrensplace.com
SUMMARY:Mud Kitchen
DESCRIPTION:Join Emily for sensory play and exploration at the outdoor kitchen play space. Explore textures\, smells\, and visual invitations to play. Music and fun messes included. A change of clothes is recommended. \nTo view the flyer in Spanish\, click here. \nTo view the flyer in Portuguese\, click here.
URL:https://capecodchildrensplace.com/event/mud-kitchen/2025-05-01/
LOCATION:Cape Cod Toy Library Outdoor Play Oasis at Hyannis Public Library\, 401 Main Street\, Hyannis\, MA\, 02601\, United States
CATEGORIES:Parent-child activities
ATTACH;FMTTYPE=image/png:https://capecodchildrensplace.com/wp-content/uploads/FY25-Q4-Mud-Kitchen-Eng.png
END:VEVENT
BEGIN:VEVENT
DTSTART;TZID=America/New_York:20250501T133000
DTEND;TZID=America/New_York:20250501T143000
DTSTAMP:20260425T072131
CREATED:20250321T194054Z
LAST-MODIFIED:20250321T194054Z
UID:10000997-1746106200-1746109800@capecodchildrensplace.com
SUMMARY:Afternoon Oceanographers
DESCRIPTION:Share the afternoon\, happy as a clam\, exploring local Dennis and Yarmouth beaches learning about marine life with Naturalist and Kripalu Mindful Outdoor Guide Andrea Higgins. \nEach session will meet at a different location. \nTo view the flyer in Spanish\, click here. \nTo view the flyer in Portuguese\, click here.
URL:https://capecodchildrensplace.com/event/afternoon-oceanographers-2/2025-05-01/
LOCATION:Various beaches in Dennis and Yarmouth
CATEGORIES:Parent-child activities
ATTACH;FMTTYPE=image/png:https://capecodchildrensplace.com/wp-content/uploads/FY25-Q4-Afternoon-Oceanographers-Eng.png
END:VEVENT
BEGIN:VEVENT
DTSTART;TZID=America/New_York:20250502T100000
DTEND;TZID=America/New_York:20250502T110000
DTSTAMP:20260425T072131
CREATED:20250324T115939Z
LAST-MODIFIED:20250324T115939Z
UID:10001018-1746180000-1746183600@capecodchildrensplace.com
SUMMARY:Little Scientists
DESCRIPTION:Join Miss Mary for a group designed for the scientist in each of us! Come play\, explore\, and learn! \nTo view the flyer in Spanish\, click here. \nTo view the flyer in Portuguese\, click here.
URL:https://capecodchildrensplace.com/event/little-scientists/2025-05-02/
LOCATION:Flax Pond Recreation Area\, 31 Dupont Ave\, South Yarmouth\, MA\, 02664\, United States
CATEGORIES:Parent-child activities
ATTACH;FMTTYPE=image/png:https://capecodchildrensplace.com/wp-content/uploads/FY25-Q4-Little-Scientists-Eng.png
END:VEVENT
BEGIN:VEVENT
DTSTART;TZID=America/New_York:20250502T103000
DTEND;TZID=America/New_York:20250502T113000
DTSTAMP:20260425T072131
CREATED:20250324T115022Z
LAST-MODIFIED:20250324T115022Z
UID:10001014-1746181800-1746185400@capecodchildrensplace.com
SUMMARY:Sensory Playgroup
DESCRIPTION:Join Group Facilitator Emily Faherty for a whole lot of messy fun. Together we will read a story\, move with some music\, and enjoy some exploration at our sensory tables! \nTo view the flyer in Spanish\, click here. \nTo view the flyer in Portuguese\, click here.
URL:https://capecodchildrensplace.com/event/sensory-playgroup-3/2025-05-02/
LOCATION:Eastham Library\, 190 Samoset Road\, Eastham\, MA\, 02642\, United States
CATEGORIES:Parent-child activities
ATTACH;FMTTYPE=image/png:https://capecodchildrensplace.com/wp-content/uploads/FY25-Q4-Sensory-Playgroup-Eng.png
END:VEVENT
BEGIN:VEVENT
DTSTART;TZID=America/New_York:20250503T100000
DTEND;TZID=America/New_York:20250503T110000
DTSTAMP:20260425T072132
CREATED:20250327T193525Z
LAST-MODIFIED:20250327T193525Z
UID:10001057-1746266400-1746270000@capecodchildrensplace.com
SUMMARY:Loose Parts Mini-Playgroup
DESCRIPTION:Join Sue Gubbins for a fun\, creative mini-playgroup designed for anyone who wants to experiment with creativity. Come ready to play\, create\, and even get messy! \n*Appropriate for ages 3-6 due to small parts \nTo view the flyer in Spanish\, click here. \nTo view the flyer in Portuguese\, click here.
URL:https://capecodchildrensplace.com/event/loose-parts-mini-playgroup/
LOCATION:Flax Pond Recreation Area\, 31 Dupont Ave\, South Yarmouth\, MA\, 02664\, United States
CATEGORIES:Community Event,Parent-child activities
ATTACH;FMTTYPE=image/png:https://capecodchildrensplace.com/wp-content/uploads/FY25-Loose-Parts-Mini-Playgroup.png
END:VEVENT
BEGIN:VEVENT
DTSTART;TZID=America/New_York:20250503T110000
DTEND;TZID=America/New_York:20250503T120000
DTSTAMP:20260425T072132
CREATED:20250327T191642Z
LAST-MODIFIED:20250327T191642Z
UID:10001058-1746270000-1746273600@capecodchildrensplace.com
SUMMARY:Sensory Mini-Playgroup
DESCRIPTION:Join Group Facilitator Emily Faherty for a whole lot of messy fun. Together we will read a story\, move with some music\, and enjoy some exploration at our sensory tables! \nTo view the flyer in Spanish\, click here. \nTo view the flyer in Portuguese\, click here.
URL:https://capecodchildrensplace.com/event/sensory-mini-playgroup/
LOCATION:Flax Pond Recreation Area\, 31 Dupont Ave\, South Yarmouth\, MA\, 02664\, United States
CATEGORIES:Community Event,Parent-child activities
ATTACH;FMTTYPE=image/png:https://capecodchildrensplace.com/wp-content/uploads/FY25-Sensory-Mini-Playgroup.png
END:VEVENT
BEGIN:VEVENT
DTSTART;TZID=America/New_York:20250505T103000
DTEND;TZID=America/New_York:20250505T113000
DTSTAMP:20260425T072132
CREATED:20250321T151022Z
LAST-MODIFIED:20250403T164158Z
UID:10000904-1746441000-1746444600@capecodchildrensplace.com
SUMMARY:Toddler Yoga on the Farm
DESCRIPTION:Join Julie Campbell for Toddler Yoga at Bray Farm! Enjoy singing along with nursery rhymes and farm songs\, meet adorable baby farm animals and explore a beautiful farm setting. Come\, stretch\, sing\, and make memories with your little ones! Older siblings are welcome. \nTo view the flyer in Spanish\, click here. \nTo view the flyer in Portuguese\, click here.
URL:https://capecodchildrensplace.com/event/toddler-yoga-on-the-farm/2025-05-05/
LOCATION:Taylor-Bray Farm\, 108 Bray Farm Rd N\, Yarmouth Port\, MA\, 02675\, United States
CATEGORIES:Parent-child activities
ATTACH;FMTTYPE=image/png:https://capecodchildrensplace.com/wp-content/uploads/FY25-Q4-Toddler-Yoga-on-the-Farm-Eng-upd.png
END:VEVENT
BEGIN:VEVENT
DTSTART;TZID=America/New_York:20250505T103000
DTEND;TZID=America/New_York:20250505T113000
DTSTAMP:20260425T072132
CREATED:20250321T155310Z
LAST-MODIFIED:20250321T155310Z
UID:10000909-1746441000-1746444600@capecodchildrensplace.com
SUMMARY:Music & Movement with Siobhan
DESCRIPTION:Let’s Make Music Together! Join Miss Siobhan in a Fun and Interactive series of making music and dancing with family and new friends! \nTo view the flyer in Spanish\, click here. \nTo view the flyer in Portuguese\, click here.
URL:https://capecodchildrensplace.com/event/music-movement-with-siobhan/2025-05-05/
LOCATION:Eastham Library\, 190 Samoset Road\, Eastham\, MA\, 02642\, United States
CATEGORIES:Parent-child activities
ATTACH;FMTTYPE=image/png:https://capecodchildrensplace.com/wp-content/uploads/FY25-Q4-Music-Movement-with-Siobhan-Eng.png
END:VEVENT
BEGIN:VEVENT
DTSTART;TZID=America/New_York:20250505T103000
DTEND;TZID=America/New_York:20250505T233000
DTSTAMP:20260425T072132
CREATED:20250321T143718Z
LAST-MODIFIED:20250403T163958Z
UID:10000892-1746441000-1746487800@capecodchildrensplace.com
SUMMARY:Baby's First Year
DESCRIPTION:Join Family Support Specialist\, Ali Burns\, and connect with other new parents and build your community of support. \nShare experiences\, ask questions\, and get familiar with the resources that support caregivers and their babies. Topics for discussion will include developmental milestones\, the importance of the parent-child relationship and the benefits of routines. \nTo see the flyer in Spanish\, click here. \nTo see the flyer in Portuguese\, click here.
URL:https://capecodchildrensplace.com/event/babys-first-year-3/2025-05-05/
LOCATION:Snow Library\, 67 Main Street\, Orleans\, MA\, 02653\, United States
CATEGORIES:Parent-child activities
ATTACH;FMTTYPE=image/png:https://capecodchildrensplace.com/wp-content/uploads/FY25Q4-Babys-First-Year-Eng.png
END:VEVENT
BEGIN:VEVENT
DTSTART;TZID=America/New_York:20250506T100000
DTEND;TZID=America/New_York:20250506T110000
DTSTAMP:20260425T072132
CREATED:20250321T160650Z
LAST-MODIFIED:20250321T160650Z
UID:10000915-1746525600-1746529200@capecodchildrensplace.com
SUMMARY:Story & Project #1
DESCRIPTION:The perfect first story time. Join group facilitator Jill Silva in this predictable group\, where children can anticipate what comes next and experience the joy of mastering new skills while taking comfort in the familiar songs and structures of the routine. Limited to 10 families. \nTo view the flyer in Spanish\, click here. \nTo view the flyer in Portuguese\, click here.
URL:https://capecodchildrensplace.com/event/story-project-1-2/2025-05-06/
LOCATION:Dennis Public Library\, 5 Hall Street\, Dennis Port\, MA\, 02639\, United States
CATEGORIES:Parent-child activities
ATTACH;FMTTYPE=image/png:https://capecodchildrensplace.com/wp-content/uploads/FY25-Q4-Story-and-Project-1-Eng.png
END:VEVENT
BEGIN:VEVENT
DTSTART;TZID=America/New_York:20250506T100000
DTEND;TZID=America/New_York:20250506T110000
DTSTAMP:20260425T072132
CREATED:20250321T171226Z
LAST-MODIFIED:20250321T171226Z
UID:10000935-1746525600-1746529200@capecodchildrensplace.com
SUMMARY:Puppet Playgroup
DESCRIPTION:Join Mary Wilson and her puppets for 4 weeks of activities you’re sure to enjoy! Stories\, songs\, and activities with puppets designed to encourage social-emotional development\, to stimulate language development and to promote creativity and learning. \nTo view the flyer in Spanish\, click here. \nTo view the flyer in Portuguese\, click here.
URL:https://capecodchildrensplace.com/event/puppet-playgroup/2025-05-06/
LOCATION:Eldredge Library\, 564 Main St.\, Chatham\, MA\, 02633\, United States
CATEGORIES:Parent-child activities
ATTACH;FMTTYPE=image/png:https://capecodchildrensplace.com/wp-content/uploads/FY25-Q4-Puppet-Playgroup-Chatham-Eng.png
END:VEVENT
BEGIN:VEVENT
DTSTART;TZID=America/New_York:20250506T103000
DTEND;TZID=America/New_York:20250506T113000
DTSTAMP:20260425T072132
CREATED:20250321T164526Z
LAST-MODIFIED:20250321T164526Z
UID:10000929-1746527400-1746531000@capecodchildrensplace.com
SUMMARY:Baby and Me Bonding
DESCRIPTION:Let’s nurture our little ones and ourselves together! Learn soothing infant massage techniques\, sing nursery rhymes\, practice calming breath work\, enjoy gentle moments\, and explore beneficial postures for both baby and caregiver. \nTo view the flyer in Spanish\, click here. \nTo view the flyer in Portuguese\, click here.
URL:https://capecodchildrensplace.com/event/baby-and-me-bonding/2025-05-06/
LOCATION:Centerville Library\, 585 Main St.\, Centerville\, MA\, 02632\, United States
CATEGORIES:Parent-child activities
ATTACH;FMTTYPE=image/png:https://capecodchildrensplace.com/wp-content/uploads/FY25-Q4-Baby-and-Me-Bonding-Eng.png
END:VEVENT
BEGIN:VEVENT
DTSTART;TZID=America/New_York:20250507T100000
DTEND;TZID=America/New_York:20250507T230000
DTSTAMP:20260425T072132
CREATED:20250321T175830Z
LAST-MODIFIED:20250321T175830Z
UID:10000950-1746612000-1746658800@capecodchildrensplace.com
SUMMARY:Kids Movement Jamboree
DESCRIPTION:Join Britt for some creative\, uplifting and inspiring movement activities that will engage you and your child. \nBritt will have you singing\, dancing and playing together with new friends. \nTo view the flyer in Spanish\, click here. \nTo view the flyer in Portuguese\, click here.
URL:https://capecodchildrensplace.com/event/kids-movement-jamboree-3/2025-05-07/
LOCATION:Johnny Kelley Park\, 180 Old Bass River Rd\, South Dennis\, MA\, 02660\, United States
CATEGORIES:Parent-child activities
ATTACH;FMTTYPE=image/png:https://capecodchildrensplace.com/wp-content/uploads/FY25-Q4-Kids-Movement-Jamboree-Eng.png
END:VEVENT
BEGIN:VEVENT
DTSTART;TZID=America/New_York:20250507T103000
DTEND;TZID=America/New_York:20250507T113000
DTSTAMP:20260425T072132
CREATED:20250321T174705Z
LAST-MODIFIED:20250403T163442Z
UID:10000942-1746613800-1746617400@capecodchildrensplace.com
SUMMARY:Ready-Set-Go!
DESCRIPTION:Join Developmental Specialist\, Kathe Medwin for a positive group experience. Come and learn play-based routines that support development & strengthen the parent-child relationship. \nTo view the flyer in Spanish\, click here. \nTo view the flyer in Portuguese\, click here.
URL:https://capecodchildrensplace.com/event/ready-set-go-3/2025-05-07/
LOCATION:South Yarmouth Library\, 312 Old Main Street\, South Yarmouth\, MA\, 02664\, United States
CATEGORIES:Parent-child activities
ATTACH;FMTTYPE=image/png:https://capecodchildrensplace.com/wp-content/uploads/FY25-Q4-Ready-Set-Go-Eng.png
END:VEVENT
BEGIN:VEVENT
DTSTART;TZID=America/New_York:20250507T130000
DTEND;TZID=America/New_York:20250507T140000
DTSTAMP:20260425T072132
CREATED:20250321T182430Z
LAST-MODIFIED:20250321T192337Z
UID:10000954-1746622800-1746626400@capecodchildrensplace.com
SUMMARY:Music & Movement with Ginger
DESCRIPTION:The Generations Class is a mixed-age Music Together® class with the sweetest twist: the addition of senior participants. Kids and their caregivers visit the Dennis Center for Active Living and spend time making music as a large extended family. This class bridges the generations and kids form new and satisfying relationships through music. \nTo view the flyer in Spanish\, click here. \nTo view the flyer in Portuguese\, click here.
URL:https://capecodchildrensplace.com/event/music-movement-with-ginger/2025-05-07/
LOCATION:Dennis Center for Active Living\, 1045 Route 134\, South Dennis\, MA\, 02660\, United States
CATEGORIES:Parent-child activities
ATTACH;FMTTYPE=image/png:https://capecodchildrensplace.com/wp-content/uploads/FY25-Q4-Music-Movement-with-Ginger-Eng.png
END:VEVENT
BEGIN:VEVENT
DTSTART;TZID=America/New_York:20250507T140000
DTEND;TZID=America/New_York:20250507T150000
DTSTAMP:20260425T072132
CREATED:20250321T183225Z
LAST-MODIFIED:20250403T163735Z
UID:10000961-1746626400-1746630000@capecodchildrensplace.com
SUMMARY:Little Naturalist
DESCRIPTION:Join Miss Kelly and a naturalist guide for outdoor learning\, exploration and inspiration in Nature’s Classroom. Families will discover and explore a different nature focused topic each week. \nTo view the flyer in Spanish\, click here. \nTo view the flyer in Portuguese\, click here.
URL:https://capecodchildrensplace.com/event/little-naturalist-2/2025-05-07/
LOCATION:MA
CATEGORIES:Parent-child activities
ATTACH;FMTTYPE=image/png:https://capecodchildrensplace.com/wp-content/uploads/FY25-Q-Little-Naturalist-Eng.png
END:VEVENT
BEGIN:VEVENT
DTSTART;TZID=America/New_York:20250508T090000
DTEND;TZID=America/New_York:20250508T100000
DTSTAMP:20260425T072132
CREATED:20250321T191430Z
LAST-MODIFIED:20250321T191430Z
UID:10000971-1746694800-1746698400@capecodchildrensplace.com
SUMMARY:Cuties in Carriers
DESCRIPTION:Join Naturalist Andrea Higgins for a morning of outdoor exploration with your infant. Put your baby in your carrier/backpack and off we go. We will venture to a variety of local conservation preserves together. The trails may not be stroller friendly. \nTo view the flyer in Spanish\, click here. \nTo view the flyer in Portuguese\, click here.
URL:https://capecodchildrensplace.com/event/cuties-in-carriers-2/2025-05-08/
LOCATION:Harwich Conservation Trust\, Harwich\, MA\, United States
CATEGORIES:Parent-child activities
ATTACH;FMTTYPE=image/png:https://capecodchildrensplace.com/wp-content/uploads/FY25-Q4-Cuties-in-Carriers-Eng.png
END:VEVENT
BEGIN:VEVENT
DTSTART;TZID=America/New_York:20250508T100000
DTEND;TZID=America/New_York:20250508T110000
DTSTAMP:20260425T072132
CREATED:20250321T195533Z
LAST-MODIFIED:20250321T195533Z
UID:10000966-1746698400-1746702000@capecodchildrensplace.com
SUMMARY:Busy Bees
DESCRIPTION:Join Julie for lots of fun\, wiggling\, laughing\, exploring\, and learning with new friends. *this playgroup will meet either outdoors (weather permitting) or indoors at Whelden Library. \nTo see the flyer in Spanish\, click here. \nTo see the flyer in Portuguese\, click here.
URL:https://capecodchildrensplace.com/event/busy-bees-2/2025-05-08/
LOCATION:Whelden Memorial Library\, 2401 Meetinghouse Way\, West Barnstable\, MA\, 02668\, United States
CATEGORIES:Parent-child activities
ATTACH;FMTTYPE=image/png:https://capecodchildrensplace.com/wp-content/uploads/FY25-Q4-Busy-Bees-Eng.png
END:VEVENT
END:VCALENDAR