BEGIN:VCALENDAR
VERSION:2.0
PRODID:-//Cape Cod Children&#039;s Place - ECPv6.15.17.1//NONSGML v1.0//EN
CALSCALE:GREGORIAN
METHOD:PUBLISH
X-ORIGINAL-URL:https://capecodchildrensplace.com
X-WR-CALDESC:Events for Cape Cod Children&#039;s Place
REFRESH-INTERVAL;VALUE=DURATION:PT1H
X-Robots-Tag:noindex
X-PUBLISHED-TTL:PT1H
BEGIN:VTIMEZONE
TZID:America/New_York
BEGIN:DAYLIGHT
TZOFFSETFROM:-0500
TZOFFSETTO:-0400
TZNAME:EDT
DTSTART:20240310T070000
END:DAYLIGHT
BEGIN:STANDARD
TZOFFSETFROM:-0400
TZOFFSETTO:-0500
TZNAME:EST
DTSTART:20241103T060000
END:STANDARD
BEGIN:DAYLIGHT
TZOFFSETFROM:-0500
TZOFFSETTO:-0400
TZNAME:EDT
DTSTART:20250309T070000
END:DAYLIGHT
BEGIN:STANDARD
TZOFFSETFROM:-0400
TZOFFSETTO:-0500
TZNAME:EST
DTSTART:20251102T060000
END:STANDARD
BEGIN:DAYLIGHT
TZOFFSETFROM:-0500
TZOFFSETTO:-0400
TZNAME:EDT
DTSTART:20260308T070000
END:DAYLIGHT
BEGIN:STANDARD
TZOFFSETFROM:-0400
TZOFFSETTO:-0500
TZNAME:EST
DTSTART:20261101T060000
END:STANDARD
END:VTIMEZONE
BEGIN:VEVENT
DTSTART;TZID=America/New_York:20250805T093000
DTEND;TZID=America/New_York:20250805T103000
DTSTAMP:20260420T094459
CREATED:20250613T181005Z
LAST-MODIFIED:20250613T181005Z
UID:10001151-1754386200-1754389800@capecodchildrensplace.com
SUMMARY:Fun on the Farm
DESCRIPTION:Join us for a barnyard adventure filled with music\, sensory play\, and farm fun! \n\n\nSing along to lively farm songs\, explore barn-themed sensory tables\, and dive into hands-on activities that bring the farm to life! Whether you love moo-ing like a cow\, splashing in a pretend watering trough\, or digging into farm-inspired sensory bins\, there’s something for everyone to enjoy! Come along and let’s have some farm-tastic fun!\nTo register\, call us at 508-240-3310 or email dolly@capecodchildrensplace.com\nClick here to view the flyer in Spanish.\nClick here to view the flyer in Portuguese. \n 
URL:https://capecodchildrensplace.com/event/fun-on-the-farm-2/
LOCATION:Taylor-Bray Farm\, 108 Bray Farm Rd N\, Yarmouth Port\, MA\, 02675\, United States
CATEGORIES:Parent-child activities
ATTACH;FMTTYPE=image/png:https://capecodchildrensplace.com/wp-content/uploads/FY26-Q1-Fun-on-the-Farm-Eng.png
END:VEVENT
BEGIN:VEVENT
DTSTART;TZID=America/New_York:20250805T180000
DTEND;TZID=America/New_York:20250805T190000
DTSTAMP:20260420T094459
CREATED:20240827T183256Z
LAST-MODIFIED:20241206T172808Z
UID:10000398-1754416800-1754420400@capecodchildrensplace.com
SUMMARY:Dads in Recovery
DESCRIPTION:Explore strengths and challenges with parenting while building a support network. Join our peer support group and connect with other Dads on a recovery journey. \nTo register\, contact Christina at 774-722-3305 or email crussell@capecodchildrensplace.com
URL:https://capecodchildrensplace.com/event/dads-in-recovery-2/2025-08-05/
LOCATION:MA
CATEGORIES:Support Groups
ATTACH;FMTTYPE=image/jpeg:https://capecodchildrensplace.com/wp-content/uploads/DADS-IN-RECOVERY-Flyer-scaled.jpg
END:VEVENT
BEGIN:VEVENT
DTSTART;TZID=America/New_York:20250805T180000
DTEND;TZID=America/New_York:20250805T193000
DTSTAMP:20260420T094459
CREATED:20250613T182253Z
LAST-MODIFIED:20250717T181522Z
UID:10001157-1754416800-1754422200@capecodchildrensplace.com
SUMMARY:Raising Healthy Families
DESCRIPTION:Join Cindy Horgan\, Director of Family Support Services at Cape Cod Children’s Place\, in an evidence-informed 6 week Parenting Education Series designed to strengthen families. \n\n\nSessions include resource materials that enhance your child’s self-esteem and development.\nImprove your confidence to be the best parent possible for your child.\n\nTo register\, call us at 508-240-3310 or email dolly@capecodchildrensplace.com
URL:https://capecodchildrensplace.com/event/raising-healthy-families-3/2025-08-05/
LOCATION:
CATEGORIES:Parenting Education Series
ATTACH;FMTTYPE=image/png:https://capecodchildrensplace.com/wp-content/uploads/FY26-Q1-RHF.png
END:VEVENT
BEGIN:VEVENT
DTSTART;TZID=America/New_York:20250806T103000
DTEND;TZID=America/New_York:20250806T113000
DTSTAMP:20260420T094459
CREATED:20250613T181457Z
LAST-MODIFIED:20250613T181457Z
UID:10001162-1754476200-1754479800@capecodchildrensplace.com
SUMMARY:Kids Movement Jamboree
DESCRIPTION:Join Britt for some creative\, uplifting and inspiring movement activities that will engage you and your child. Britt will have you singing\, dancing and playing together with new friends. \nTo register\, call us at 508-240-3310 or email dolly@capecodchildrensplace.com\nClick here to view the flyer in Spanish.\nClick here to view the flyer in Portuguese.
URL:https://capecodchildrensplace.com/event/kids-movement-jamboree-4/2025-08-06/
LOCATION:Centerville Library\, 585 Main St.\, Centerville\, MA\, 02632\, United States
CATEGORIES:Parent-child activities
ATTACH;FMTTYPE=image/png:https://capecodchildrensplace.com/wp-content/uploads/FY26-Q1-Kids-Movement-Jamboree-Eng.png
END:VEVENT
BEGIN:VEVENT
DTSTART;TZID=America/New_York:20250806T103000
DTEND;TZID=America/New_York:20250806T113000
DTSTAMP:20260420T094459
CREATED:20250613T181836Z
LAST-MODIFIED:20250613T181836Z
UID:10001167-1754476200-1754479800@capecodchildrensplace.com
SUMMARY:Ready-Set-Go!
DESCRIPTION:Join Developmental Specialist\, Kathe Medwin for a positive group experience. Come and learn play-based routines that support development & strengthen the parent-child relationship. \nTo register\, call us at 508-240-3310 or email dolly@capecodchildrensplace.com \nClick here to view the flyer in Spanish.\nClick here to view the flyer in Portuguese.
URL:https://capecodchildrensplace.com/event/ready-set-go-4/2025-08-06/
LOCATION:Kennedy-Donovan Center\, 30 Ansel Hallet Rd.\, West Yarmouth\, MA\, 02673\, United States
CATEGORIES:Parent-child activities
ATTACH;FMTTYPE=image/png:https://capecodchildrensplace.com/wp-content/uploads/FY26-Q1-Ready-Set-Go-Eng.png
END:VEVENT
BEGIN:VEVENT
DTSTART;TZID=America/New_York:20250807T110000
DTEND;TZID=America/New_York:20250807T120000
DTSTAMP:20260420T094459
CREATED:20240827T185021Z
LAST-MODIFIED:20260317T012000Z
UID:10000660-1754564400-1754568000@capecodchildrensplace.com
SUMMARY:Lower Cape Supporting Momma Group
DESCRIPTION:A welcoming\, weekly space for moms with babies (0–12 months) to connect\, share\, and feel supported. Led by Becky Fischer\, MA\, CLC\, PMH-C — postpartum doula and lactation counselor — this group offers guidance for your infant feeding journey and encouragement through the ups and downs of early parenthood. \nNo cost to participate!
URL:https://capecodchildrensplace.com/event/lower-cape-supporting-momma-group/2025-08-07/
LOCATION:Cape Cod Children’s Place\, 10 Ballwic Rd\, Eastham\, MA\, 02642\, United States
CATEGORIES:Support Groups
ATTACH;FMTTYPE=image/png:https://capecodchildrensplace.com/wp-content/uploads/FY26-Q4-Lower-Cape-Supporting-Momma-Group.png
END:VEVENT
BEGIN:VEVENT
DTSTART;TZID=America/New_York:20250807T190000
DTEND;TZID=America/New_York:20250807T200000
DTSTAMP:20260420T094500
CREATED:20250613T182013Z
LAST-MODIFIED:20250613T182013Z
UID:10001169-1754593200-1754596800@capecodchildrensplace.com
SUMMARY:The Campout
DESCRIPTION:Come along with Ernestine as she experiences the joys (and fears) of camping out in the Great Outdoors! We will read as we walk through the woods and then have a s’more snack by a pretend campfire. \n\n\n*Copies of the The Camping Trip and a flashlight will be provided to families who register for the walk. \nTo register\, call us at 508-240-3310 or email dolly@capecodchildrensplace.com\nClick here to view the flyer in Spanish.\nClick here to view the flyer in Portuguese.
URL:https://capecodchildrensplace.com/event/the-campout/
LOCATION:Dennis Conservation Land Trust\, 107 Sesuit Neck Rd\, East Dennis\, MA\, 02641\, United States
CATEGORIES:Parent-child activities
ATTACH;FMTTYPE=image/png:https://capecodchildrensplace.com/wp-content/uploads/FY26-Q1-The-Campout-Eng.png
END:VEVENT
BEGIN:VEVENT
DTSTART;TZID=America/New_York:20250811T093000
DTEND;TZID=America/New_York:20250811T103000
DTSTAMP:20260420T094500
CREATED:20250613T181718Z
LAST-MODIFIED:20250613T181718Z
UID:10001152-1754904600-1754908200@capecodchildrensplace.com
SUMMARY:Playground Playtime
DESCRIPTION:Join us for a fun-filled morning of play\, movement\, and connection with facilitator Emily Faherty! \n\n\nRun\, climb\, explore\, and make new friends in a welcoming space designed for fun and discovery. Whether it’s swinging high\, digging deep\, or simply enjoying the fresh air\, this playgroup is all about laughing\, learning\, and letting imaginations soar! Come along and let the adventures begin! \nTo register\, call us at 508-240-3310 or email dolly@capecodchildrensplace.com \nClick here to view the flyer in Spanish.\nClick here to view the flyer in Portuguese. \n\n\n 
URL:https://capecodchildrensplace.com/event/playground-playtime/2025-08-11/
LOCATION:Sandy Pond Playground\, 482 Buck Island Rd\, West Yarmouth\, MA\, 02673\, United States
CATEGORIES:Parent-child activities
ATTACH;FMTTYPE=image/png:https://capecodchildrensplace.com/wp-content/uploads/FY26-Q1-Playground-Playtime-Eng.png
END:VEVENT
BEGIN:VEVENT
DTSTART;TZID=America/New_York:20250812T180000
DTEND;TZID=America/New_York:20250812T190000
DTSTAMP:20260420T094500
CREATED:20240827T183256Z
LAST-MODIFIED:20241206T172808Z
UID:10000399-1755021600-1755025200@capecodchildrensplace.com
SUMMARY:Dads in Recovery
DESCRIPTION:Explore strengths and challenges with parenting while building a support network. Join our peer support group and connect with other Dads on a recovery journey. \nTo register\, contact Christina at 774-722-3305 or email crussell@capecodchildrensplace.com
URL:https://capecodchildrensplace.com/event/dads-in-recovery-2/2025-08-12/
LOCATION:MA
CATEGORIES:Support Groups
ATTACH;FMTTYPE=image/jpeg:https://capecodchildrensplace.com/wp-content/uploads/DADS-IN-RECOVERY-Flyer-scaled.jpg
END:VEVENT
BEGIN:VEVENT
DTSTART;TZID=America/New_York:20250812T180000
DTEND;TZID=America/New_York:20250812T193000
DTSTAMP:20260420T094500
CREATED:20250613T182253Z
LAST-MODIFIED:20250717T181522Z
UID:10001158-1755021600-1755027000@capecodchildrensplace.com
SUMMARY:Raising Healthy Families
DESCRIPTION:Join Cindy Horgan\, Director of Family Support Services at Cape Cod Children’s Place\, in an evidence-informed 6 week Parenting Education Series designed to strengthen families. \n\n\nSessions include resource materials that enhance your child’s self-esteem and development.\nImprove your confidence to be the best parent possible for your child.\n\nTo register\, call us at 508-240-3310 or email dolly@capecodchildrensplace.com
URL:https://capecodchildrensplace.com/event/raising-healthy-families-3/2025-08-12/
LOCATION:
CATEGORIES:Parenting Education Series
ATTACH;FMTTYPE=image/png:https://capecodchildrensplace.com/wp-content/uploads/FY26-Q1-RHF.png
END:VEVENT
BEGIN:VEVENT
DTSTART;TZID=America/New_York:20250813T103000
DTEND;TZID=America/New_York:20250813T113000
DTSTAMP:20260420T094500
CREATED:20250613T181457Z
LAST-MODIFIED:20250613T181457Z
UID:10001163-1755081000-1755084600@capecodchildrensplace.com
SUMMARY:Kids Movement Jamboree
DESCRIPTION:Join Britt for some creative\, uplifting and inspiring movement activities that will engage you and your child. Britt will have you singing\, dancing and playing together with new friends. \nTo register\, call us at 508-240-3310 or email dolly@capecodchildrensplace.com\nClick here to view the flyer in Spanish.\nClick here to view the flyer in Portuguese.
URL:https://capecodchildrensplace.com/event/kids-movement-jamboree-4/2025-08-13/
LOCATION:Centerville Library\, 585 Main St.\, Centerville\, MA\, 02632\, United States
CATEGORIES:Parent-child activities
ATTACH;FMTTYPE=image/png:https://capecodchildrensplace.com/wp-content/uploads/FY26-Q1-Kids-Movement-Jamboree-Eng.png
END:VEVENT
BEGIN:VEVENT
DTSTART;TZID=America/New_York:20250814T110000
DTEND;TZID=America/New_York:20250814T120000
DTSTAMP:20260420T094500
CREATED:20240827T185021Z
LAST-MODIFIED:20260317T012000Z
UID:10000661-1755169200-1755172800@capecodchildrensplace.com
SUMMARY:Lower Cape Supporting Momma Group
DESCRIPTION:A welcoming\, weekly space for moms with babies (0–12 months) to connect\, share\, and feel supported. Led by Becky Fischer\, MA\, CLC\, PMH-C — postpartum doula and lactation counselor — this group offers guidance for your infant feeding journey and encouragement through the ups and downs of early parenthood. \nNo cost to participate!
URL:https://capecodchildrensplace.com/event/lower-cape-supporting-momma-group/2025-08-14/
LOCATION:Cape Cod Children’s Place\, 10 Ballwic Rd\, Eastham\, MA\, 02642\, United States
CATEGORIES:Support Groups
ATTACH;FMTTYPE=image/png:https://capecodchildrensplace.com/wp-content/uploads/FY26-Q4-Lower-Cape-Supporting-Momma-Group.png
END:VEVENT
BEGIN:VEVENT
DTSTART;TZID=America/New_York:20250818T093000
DTEND;TZID=America/New_York:20250818T103000
DTSTAMP:20260420T094500
CREATED:20250613T181718Z
LAST-MODIFIED:20250613T181718Z
UID:10001153-1755509400-1755513000@capecodchildrensplace.com
SUMMARY:Playground Playtime
DESCRIPTION:Join us for a fun-filled morning of play\, movement\, and connection with facilitator Emily Faherty! \n\n\nRun\, climb\, explore\, and make new friends in a welcoming space designed for fun and discovery. Whether it’s swinging high\, digging deep\, or simply enjoying the fresh air\, this playgroup is all about laughing\, learning\, and letting imaginations soar! Come along and let the adventures begin! \nTo register\, call us at 508-240-3310 or email dolly@capecodchildrensplace.com \nClick here to view the flyer in Spanish.\nClick here to view the flyer in Portuguese. \n\n\n 
URL:https://capecodchildrensplace.com/event/playground-playtime/2025-08-18/
LOCATION:Sandy Pond Playground\, 482 Buck Island Rd\, West Yarmouth\, MA\, 02673\, United States
CATEGORIES:Parent-child activities
ATTACH;FMTTYPE=image/png:https://capecodchildrensplace.com/wp-content/uploads/FY26-Q1-Playground-Playtime-Eng.png
END:VEVENT
BEGIN:VEVENT
DTSTART;TZID=America/New_York:20250819T180000
DTEND;TZID=America/New_York:20250819T190000
DTSTAMP:20260420T094500
CREATED:20240827T183256Z
LAST-MODIFIED:20241206T172808Z
UID:10000400-1755626400-1755630000@capecodchildrensplace.com
SUMMARY:Dads in Recovery
DESCRIPTION:Explore strengths and challenges with parenting while building a support network. Join our peer support group and connect with other Dads on a recovery journey. \nTo register\, contact Christina at 774-722-3305 or email crussell@capecodchildrensplace.com
URL:https://capecodchildrensplace.com/event/dads-in-recovery-2/2025-08-19/
LOCATION:MA
CATEGORIES:Support Groups
ATTACH;FMTTYPE=image/jpeg:https://capecodchildrensplace.com/wp-content/uploads/DADS-IN-RECOVERY-Flyer-scaled.jpg
END:VEVENT
BEGIN:VEVENT
DTSTART;TZID=America/New_York:20250819T180000
DTEND;TZID=America/New_York:20250819T193000
DTSTAMP:20260420T094500
CREATED:20250613T182253Z
LAST-MODIFIED:20250717T181522Z
UID:10001159-1755626400-1755631800@capecodchildrensplace.com
SUMMARY:Raising Healthy Families
DESCRIPTION:Join Cindy Horgan\, Director of Family Support Services at Cape Cod Children’s Place\, in an evidence-informed 6 week Parenting Education Series designed to strengthen families. \n\n\nSessions include resource materials that enhance your child’s self-esteem and development.\nImprove your confidence to be the best parent possible for your child.\n\nTo register\, call us at 508-240-3310 or email dolly@capecodchildrensplace.com
URL:https://capecodchildrensplace.com/event/raising-healthy-families-3/2025-08-19/
LOCATION:
CATEGORIES:Parenting Education Series
ATTACH;FMTTYPE=image/png:https://capecodchildrensplace.com/wp-content/uploads/FY26-Q1-RHF.png
END:VEVENT
BEGIN:VEVENT
DTSTART;TZID=America/New_York:20250821T110000
DTEND;TZID=America/New_York:20250821T120000
DTSTAMP:20260420T094500
CREATED:20240827T185021Z
LAST-MODIFIED:20260317T012000Z
UID:10000662-1755774000-1755777600@capecodchildrensplace.com
SUMMARY:Lower Cape Supporting Momma Group
DESCRIPTION:A welcoming\, weekly space for moms with babies (0–12 months) to connect\, share\, and feel supported. Led by Becky Fischer\, MA\, CLC\, PMH-C — postpartum doula and lactation counselor — this group offers guidance for your infant feeding journey and encouragement through the ups and downs of early parenthood. \nNo cost to participate!
URL:https://capecodchildrensplace.com/event/lower-cape-supporting-momma-group/2025-08-21/
LOCATION:Cape Cod Children’s Place\, 10 Ballwic Rd\, Eastham\, MA\, 02642\, United States
CATEGORIES:Support Groups
ATTACH;FMTTYPE=image/png:https://capecodchildrensplace.com/wp-content/uploads/FY26-Q4-Lower-Cape-Supporting-Momma-Group.png
END:VEVENT
BEGIN:VEVENT
DTSTART;TZID=America/New_York:20250821T160000
DTEND;TZID=America/New_York:20250821T170000
DTSTAMP:20260420T094500
CREATED:20250724T163747Z
LAST-MODIFIED:20250725T161007Z
UID:10001170-1755792000-1755795600@capecodchildrensplace.com
SUMMARY:Story Time with Principal Carol Mahedy
DESCRIPTION:Meet Your Principal & Enjoy Story Time! \n\n\nJoin us for an afternoon of read-alouds\, new friends\, and a special book to take home! Families will have the chance to meet the new principal and ask questions about their upcoming school year. \n\n\nCome connect\, listen\, laugh—and leave with a story in hand!
URL:https://capecodchildrensplace.com/event/story-time-with-principal-carol-mahedy/
LOCATION:West Yarmouth Library\, 391 MA-28\, West Yarmouth\, MA\, 02673\, United States
CATEGORIES:Community Event
ATTACH;FMTTYPE=image/png:https://capecodchildrensplace.com/wp-content/uploads/FY26-Q1-Story-Time-with-Principal-Carol-Mahedy-Eng-2.png
END:VEVENT
BEGIN:VEVENT
DTSTART;TZID=America/New_York:20250825T093000
DTEND;TZID=America/New_York:20250825T103000
DTSTAMP:20260420T094500
CREATED:20250613T181718Z
LAST-MODIFIED:20250613T181718Z
UID:10001154-1756114200-1756117800@capecodchildrensplace.com
SUMMARY:Playground Playtime
DESCRIPTION:Join us for a fun-filled morning of play\, movement\, and connection with facilitator Emily Faherty! \n\n\nRun\, climb\, explore\, and make new friends in a welcoming space designed for fun and discovery. Whether it’s swinging high\, digging deep\, or simply enjoying the fresh air\, this playgroup is all about laughing\, learning\, and letting imaginations soar! Come along and let the adventures begin! \nTo register\, call us at 508-240-3310 or email dolly@capecodchildrensplace.com \nClick here to view the flyer in Spanish.\nClick here to view the flyer in Portuguese. \n\n\n 
URL:https://capecodchildrensplace.com/event/playground-playtime/2025-08-25/
LOCATION:Sandy Pond Playground\, 482 Buck Island Rd\, West Yarmouth\, MA\, 02673\, United States
CATEGORIES:Parent-child activities
ATTACH;FMTTYPE=image/png:https://capecodchildrensplace.com/wp-content/uploads/FY26-Q1-Playground-Playtime-Eng.png
END:VEVENT
BEGIN:VEVENT
DTSTART;TZID=America/New_York:20250826T173000
DTEND;TZID=America/New_York:20250826T183000
DTSTAMP:20260420T094500
CREATED:20250724T171244Z
LAST-MODIFIED:20250725T155734Z
UID:10001171-1756229400-1756233000@capecodchildrensplace.com
SUMMARY:Read along  with Principal Patrick Riley
DESCRIPTION:Meet Principal Riley & Enjoy Story Time! \n\n\nHelp us welcome Principal Riley with an evening of stories\, new friends\, and a special book to take home! Families are invited to come connect and bring any questions about their new school adventure. \n\n\nA joyful chance to listen\, learn\, and say hello!
URL:https://capecodchildrensplace.com/event/read-along-with-principal-patrick-riley/
LOCATION:Dennis Public Library\, 5 Hall Street\, Dennis Port\, MA\, 02639\, United States
CATEGORIES:Community Event
ATTACH;FMTTYPE=image/png:https://capecodchildrensplace.com/wp-content/uploads/FY26-Q1-Story-Time-with-Principal-Riley-Eng-2.png
END:VEVENT
BEGIN:VEVENT
DTSTART;TZID=America/New_York:20250826T180000
DTEND;TZID=America/New_York:20250826T190000
DTSTAMP:20260420T094500
CREATED:20240827T183256Z
LAST-MODIFIED:20241206T172808Z
UID:10000401-1756231200-1756234800@capecodchildrensplace.com
SUMMARY:Dads in Recovery
DESCRIPTION:Explore strengths and challenges with parenting while building a support network. Join our peer support group and connect with other Dads on a recovery journey. \nTo register\, contact Christina at 774-722-3305 or email crussell@capecodchildrensplace.com
URL:https://capecodchildrensplace.com/event/dads-in-recovery-2/2025-08-26/
LOCATION:MA
CATEGORIES:Support Groups
ATTACH;FMTTYPE=image/jpeg:https://capecodchildrensplace.com/wp-content/uploads/DADS-IN-RECOVERY-Flyer-scaled.jpg
END:VEVENT
BEGIN:VEVENT
DTSTART;TZID=America/New_York:20250826T180000
DTEND;TZID=America/New_York:20250826T193000
DTSTAMP:20260420T094500
CREATED:20250613T182253Z
LAST-MODIFIED:20250717T181522Z
UID:10001160-1756231200-1756236600@capecodchildrensplace.com
SUMMARY:Raising Healthy Families
DESCRIPTION:Join Cindy Horgan\, Director of Family Support Services at Cape Cod Children’s Place\, in an evidence-informed 6 week Parenting Education Series designed to strengthen families. \n\n\nSessions include resource materials that enhance your child’s self-esteem and development.\nImprove your confidence to be the best parent possible for your child.\n\nTo register\, call us at 508-240-3310 or email dolly@capecodchildrensplace.com
URL:https://capecodchildrensplace.com/event/raising-healthy-families-3/2025-08-26/
LOCATION:
CATEGORIES:Parenting Education Series
ATTACH;FMTTYPE=image/png:https://capecodchildrensplace.com/wp-content/uploads/FY26-Q1-RHF.png
END:VEVENT
BEGIN:VEVENT
DTSTART;TZID=America/New_York:20250828T110000
DTEND;TZID=America/New_York:20250828T120000
DTSTAMP:20260420T094500
CREATED:20240827T185021Z
LAST-MODIFIED:20260317T012000Z
UID:10000663-1756378800-1756382400@capecodchildrensplace.com
SUMMARY:Lower Cape Supporting Momma Group
DESCRIPTION:A welcoming\, weekly space for moms with babies (0–12 months) to connect\, share\, and feel supported. Led by Becky Fischer\, MA\, CLC\, PMH-C — postpartum doula and lactation counselor — this group offers guidance for your infant feeding journey and encouragement through the ups and downs of early parenthood. \nNo cost to participate!
URL:https://capecodchildrensplace.com/event/lower-cape-supporting-momma-group/2025-08-28/
LOCATION:Cape Cod Children’s Place\, 10 Ballwic Rd\, Eastham\, MA\, 02642\, United States
CATEGORIES:Support Groups
ATTACH;FMTTYPE=image/png:https://capecodchildrensplace.com/wp-content/uploads/FY26-Q4-Lower-Cape-Supporting-Momma-Group.png
END:VEVENT
END:VCALENDAR